BEGIN:VCALENDAR
PRODID:http://wibix.de/infusions/pro_download_panel/download.php?did=27
VERSION:2.0
METHOD:PUBLISH
BEGIN:VEVENT
DTSTART:20100517T220000Z
UID:101@http://www.mat-fiz.eu/
DTSTAMP:20100511T121307Z
DESCRIPTION:Chemia - sprawdzian
SUMMARY:Chemia - sprawdzian
CLASS:PUBLIC
END:VEVENT
END:VCALENDAR
