BEGIN:VCALENDAR
PRODID:http://wibix.de/infusions/pro_download_panel/download.php?did=27
VERSION:2.0
METHOD:PUBLISH
BEGIN:VEVENT
DTSTART:20091029T230000Z
UID:14@http://www.mat-fiz.eu/
DTSTAMP:20091023T130814Z
DESCRIPTION:Halloween
SUMMARY:Halloween
CLASS:PUBLIC
END:VEVENT
END:VCALENDAR
