BEGIN:VCALENDAR
PRODID:http://wibix.de/infusions/pro_download_panel/download.php?did=27
VERSION:2.0
METHOD:PUBLISH
BEGIN:VEVENT
DTSTART:20101104T230000Z
UID:140@http://www.mat-fiz.eu/
DTSTAMP:20101023T223540Z
DESCRIPTION:Połowinki
SUMMARY:Połowinki
CLASS:PUBLIC
END:VEVENT
END:VCALENDAR
