BEGIN:VCALENDAR
PRODID:http://wibix.de/infusions/pro_download_panel/download.php?did=27
VERSION:2.0
METHOD:PUBLISH
BEGIN:VEVENT
DTSTART:20091103T230000Z
UID:18@http://www.mat-fiz.eu/
DTSTAMP:20091030T155303Z
DESCRIPTION:Chemia - sprawdzian
SUMMARY:Chemia - sprawdzian
CLASS:PUBLIC
END:VEVENT
END:VCALENDAR
