BEGIN:VCALENDAR
PRODID:http://wibix.de/infusions/pro_download_panel/download.php?did=27
VERSION:2.0
METHOD:PUBLISH
BEGIN:VEVENT
DTSTART:20110209T230000Z
UID:205@http://www.mat-fiz.eu/
DTSTAMP:20110127T233232Z
DESCRIPTION:PO - sprawdzian
SUMMARY:PO - sprawdzian
CLASS:PUBLIC
END:VEVENT
END:VCALENDAR
