BEGIN:VCALENDAR
PRODID:http://wibix.de/infusions/pro_download_panel/download.php?did=27
VERSION:2.0
METHOD:PUBLISH
BEGIN:VEVENT
DTSTART:20091111T230000Z
UID:22@http://www.mat-fiz.eu/
DTSTAMP:20091103T151052Z
DESCRIPTION:Religia - sprawdzian
SUMMARY:Religia - sprawdzian
CLASS:PUBLIC
END:VEVENT
END:VCALENDAR
