BEGIN:VCALENDAR
PRODID:http://wibix.de/infusions/pro_download_panel/download.php?did=27
VERSION:2.0
METHOD:PUBLISH
BEGIN:VEVENT
DTSTART:20091117T230000Z
UID:24@http://www.mat-fiz.eu/
DTSTAMP:20091104T132020Z
DESCRIPTION:Informatyka - sprawdzian (IIgr.)
SUMMARY:Informatyka - sprawdzian (IIgr.)
CLASS:PUBLIC
END:VEVENT
END:VCALENDAR
