BEGIN:VCALENDAR
PRODID:http://wibix.de/infusions/pro_download_panel/download.php?did=27
VERSION:2.0
METHOD:PUBLISH
BEGIN:VEVENT
DTSTART:20110428T220000Z
UID:240@http://www.mat-fiz.eu/
DTSTAMP:20110428T221749Z
DESCRIPTION:Grill Mat-Fiz
SUMMARY:Grill Mat-Fiz
CLASS:PUBLIC
END:VEVENT
END:VCALENDAR
