BEGIN:VCALENDAR
PRODID:http://wibix.de/infusions/pro_download_panel/download.php?did=27
VERSION:2.0
METHOD:PUBLISH
BEGIN:VEVENT
DTSTART:20110519T220000Z
UID:243@http://www.mat-fiz.eu/
DTSTAMP:20110518T145514Z
DESCRIPTION:Chemia - sprawdzian
SUMMARY:Chemia - sprawdzian
CLASS:PUBLIC
END:VEVENT
END:VCALENDAR
