BEGIN:VCALENDAR
PRODID:http://wibix.de/infusions/pro_download_panel/download.php?did=27
VERSION:2.0
METHOD:PUBLISH
BEGIN:VEVENT
DTSTART:20110926T220000Z
UID:250@http://www.mat-fiz.eu/
DTSTAMP:20110920T154215Z
DESCRIPTION:J. polski - &quot;Granica&quot;
SUMMARY:J. polski - &quot;Granica&quot;
CLASS:PUBLIC
END:VEVENT
END:VCALENDAR
