BEGIN:VCALENDAR
PRODID:http://wibix.de/infusions/pro_download_panel/download.php?did=27
VERSION:2.0
METHOD:PUBLISH
BEGIN:VEVENT
DTSTART:20110927T220000Z
UID:251@http://www.mat-fiz.eu/
DTSTAMP:20110920T154252Z
DESCRIPTION:J. polski - praca klasowa
SUMMARY:J. polski - praca klasowa
CLASS:PUBLIC
END:VEVENT
END:VCALENDAR
