BEGIN:VCALENDAR
PRODID:http://wibix.de/infusions/pro_download_panel/download.php?did=27
VERSION:2.0
METHOD:PUBLISH
BEGIN:VEVENT
DTSTART:20110921T220000Z
UID:253@http://www.mat-fiz.eu/
DTSTAMP:20110920T154336Z
DESCRIPTION:J. niemiecki - sprawdzian
SUMMARY:J. niemiecki - sprawdzian
CLASS:PUBLIC
END:VEVENT
END:VCALENDAR
