BEGIN:VCALENDAR
PRODID:http://wibix.de/infusions/pro_download_panel/download.php?did=27
VERSION:2.0
METHOD:PUBLISH
BEGIN:VEVENT
DTSTART:20111129T230000Z
UID:282@http://www.mat-fiz.eu/
DTSTAMP:20111123T232015Z
DESCRIPTION:Chemia - sprawdzian
SUMMARY:Chemia - sprawdzian
CLASS:PUBLIC
END:VEVENT
END:VCALENDAR
