BEGIN:VCALENDAR
PRODID:http://wibix.de/infusions/pro_download_panel/download.php?did=27
VERSION:2.0
METHOD:PUBLISH
BEGIN:VEVENT
DTSTART:20091116T230000Z
UID:29@http://www.mat-fiz.eu/
DTSTAMP:20091113T143130Z
DESCRIPTION:Matematyka - poprawa sprawdzianu
SUMMARY:Matematyka - poprawa sprawdzianu
CLASS:PUBLIC
END:VEVENT
END:VCALENDAR
