BEGIN:VCALENDAR
PRODID:http://wibix.de/infusions/pro_download_panel/download.php?did=27
VERSION:2.0
METHOD:PUBLISH
BEGIN:VEVENT
DTSTART:20111211T230000Z
UID:290@http://www.mat-fiz.eu/
DTSTAMP:20111211T191048Z
DESCRIPTION:Dzień Patrona Szkoły
SUMMARY:Dzień Patrona Szkoły
CLASS:PUBLIC
END:VEVENT
END:VCALENDAR
