BEGIN:VCALENDAR
PRODID:http://wibix.de/infusions/pro_download_panel/download.php?did=27
VERSION:2.0
METHOD:PUBLISH
BEGIN:VEVENT
DTSTART:20120124T230000Z
UID:324@http://www.mat-fiz.eu/
DTSTAMP:20120120T171643Z
DESCRIPTION:Chemia - sprawdzian
SUMMARY:Chemia - sprawdzian
CLASS:PUBLIC
END:VEVENT
END:VCALENDAR
