BEGIN:VCALENDAR
PRODID:http://wibix.de/infusions/pro_download_panel/download.php?did=27
VERSION:2.0
METHOD:PUBLISH
BEGIN:VEVENT
DTSTART:20120305T230000Z
UID:334@http://www.mat-fiz.eu/
DTSTAMP:20120225T223739Z
DESCRIPTION:WOS - sprawdzian
SUMMARY:WOS - sprawdzian
CLASS:PUBLIC
END:VEVENT
END:VCALENDAR
