BEGIN:VCALENDAR
PRODID:http://wibix.de/infusions/pro_download_panel/download.php?did=27
VERSION:2.0
METHOD:PUBLISH
BEGIN:VEVENT
DTSTART:20120229T230000Z
UID:335@http://www.mat-fiz.eu/
DTSTAMP:20120225T224141Z
DESCRIPTION:J. niemiecki - sprawdzian
SUMMARY:J. niemiecki - sprawdzian
CLASS:PUBLIC
END:VEVENT
END:VCALENDAR
