BEGIN:VCALENDAR
PRODID:http://wibix.de/infusions/pro_download_panel/download.php?did=27
VERSION:2.0
METHOD:PUBLISH
BEGIN:VEVENT
DTSTART:20120308T230000Z
UID:337@http://www.mat-fiz.eu/
DTSTAMP:20120227T162133Z
DESCRIPTION:Geografia - praca klasowa
SUMMARY:Geografia - praca klasowa
CLASS:PUBLIC
END:VEVENT
END:VCALENDAR
