BEGIN:VCALENDAR
PRODID:http://wibix.de/infusions/pro_download_panel/download.php?did=27
VERSION:2.0
METHOD:PUBLISH
BEGIN:VEVENT
DTSTART:20120313T230000Z
UID:338@http://www.mat-fiz.eu/
DTSTAMP:20120228T191419Z
DESCRIPTION:Chemia - praca klasowa
SUMMARY:Chemia - praca klasowa
CLASS:PUBLIC
END:VEVENT
END:VCALENDAR
