BEGIN:VCALENDAR
PRODID:http://wibix.de/infusions/pro_download_panel/download.php?did=27
VERSION:2.0
METHOD:PUBLISH
BEGIN:VEVENT
DTSTART:20091201T230000Z
UID:34@http://www.mat-fiz.eu/
DTSTAMP:20091124T210048Z
DESCRIPTION:&quot;Bogurodzica&quot; - recytacja
SUMMARY:&quot;Bogurodzica&quot; - recytacja
CLASS:PUBLIC
END:VEVENT
END:VCALENDAR
