BEGIN:VCALENDAR
PRODID:http://wibix.de/infusions/pro_download_panel/download.php?did=27
VERSION:2.0
METHOD:PUBLISH
BEGIN:VEVENT
DTSTART:20120305T230000Z
UID:340@http://www.mat-fiz.eu/
DTSTAMP:20120302T152030Z
DESCRIPTION:Rekolekcje wielkopostne
SUMMARY:Rekolekcje wielkopostne
CLASS:PUBLIC
END:VEVENT
END:VCALENDAR
