BEGIN:VCALENDAR
PRODID:http://wibix.de/infusions/pro_download_panel/download.php?did=27
VERSION:2.0
METHOD:PUBLISH
BEGIN:VEVENT
DTSTART:20120320T230000Z
UID:343@http://www.mat-fiz.eu/
DTSTAMP:20120317T155207Z
DESCRIPTION:Dzień Języków Obcych
SUMMARY:Dzień Języków Obcych
CLASS:PUBLIC
END:VEVENT
END:VCALENDAR
