BEGIN:VCALENDAR
PRODID:http://wibix.de/infusions/pro_download_panel/download.php?did=27
VERSION:2.0
METHOD:PUBLISH
BEGIN:VEVENT
DTSTART:20120411T220000Z
UID:348@http://www.mat-fiz.eu/
DTSTAMP:20120410T162608Z
DESCRIPTION:J. angielski - sprawdzian
SUMMARY:J. angielski - sprawdzian
CLASS:PUBLIC
END:VEVENT
END:VCALENDAR
