BEGIN:VCALENDAR
PRODID:http://wibix.de/infusions/pro_download_panel/download.php?did=27
VERSION:2.0
METHOD:PUBLISH
BEGIN:VEVENT
DTSTART:20120426T220000Z
UID:350@http://www.mat-fiz.eu/
DTSTAMP:20120422T210302Z
DESCRIPTION:Zakończenie roku szkolnego
SUMMARY:Zakończenie roku szkolnego
CLASS:PUBLIC
END:VEVENT
END:VCALENDAR
