BEGIN:VCALENDAR
PRODID:http://wibix.de/infusions/pro_download_panel/download.php?did=27
VERSION:2.0
METHOD:PUBLISH
BEGIN:VEVENT
DTSTART:20120426T220000Z
UID:351@http://www.mat-fiz.eu/
DTSTAMP:20120422T210330Z
DESCRIPTION:Klasowa impreza
SUMMARY:Klasowa impreza
CLASS:PUBLIC
END:VEVENT
END:VCALENDAR
