BEGIN:VCALENDAR
PRODID:http://wibix.de/infusions/pro_download_panel/download.php?did=27
VERSION:2.0
METHOD:PUBLISH
BEGIN:VEVENT
DTSTART:20091015T220000Z
UID:6@http://www.mat-fiz.eu/
DTSTAMP:20091015T103935Z
DESCRIPTION:Kotowanie
SUMMARY:Kotowanie
CLASS:PUBLIC
END:VEVENT
END:VCALENDAR
