BEGIN:VCALENDAR
PRODID:http://wibix.de/infusions/pro_download_panel/download.php?did=27
VERSION:2.0
METHOD:PUBLISH
BEGIN:VEVENT
DTSTART:20100413T220000Z
UID:83@http://www.mat-fiz.eu/
DTSTAMP:20100330T125002Z
DESCRIPTION:Chemia - praca klasowa
SUMMARY:Chemia - praca klasowa
CLASS:PUBLIC
END:VEVENT
END:VCALENDAR
