BEGIN:VCALENDAR
PRODID:http://wibix.de/infusions/pro_download_panel/download.php?did=27
VERSION:2.0
METHOD:PUBLISH
BEGIN:VEVENT
DTSTART:20091022T220000Z
UID:9@http://www.mat-fiz.eu/
DTSTAMP:20091019T132639Z
DESCRIPTION:J. angielski - praca klasowa
SUMMARY:J. angielski - praca klasowa
CLASS:PUBLIC
END:VEVENT
END:VCALENDAR
