BEGIN:VCALENDAR
PRODID:http://wibix.de/infusions/pro_download_panel/download.php?did=27
VERSION:2.0
METHOD:PUBLISH
BEGIN:VEVENT
DTSTART:20100516T220000Z
UID:97@http://www.mat-fiz.eu/
DTSTAMP:20100423T130242Z
DESCRIPTION:J. polski - recytacja bajek Krasickiego
SUMMARY:J. polski - recytacja bajek Krasickiego
CLASS:PUBLIC
END:VEVENT
END:VCALENDAR
